BEGIN:VCALENDAR
VERSION:2.0
PRODID:-//City Scape Winery - ECPv6.15.10//NONSGML v1.0//EN
CALSCALE:GREGORIAN
METHOD:PUBLISH
X-ORIGINAL-URL:https://cityscapewinery.com
X-WR-CALDESC:Events for City Scape Winery
REFRESH-INTERVAL;VALUE=DURATION:PT1H
X-Robots-Tag:noindex
X-PUBLISHED-TTL:PT1H
BEGIN:VTIMEZONE
TZID:America/New_York
BEGIN:DAYLIGHT
TZOFFSETFROM:-0500
TZOFFSETTO:-0400
TZNAME:EDT
DTSTART:20250309T070000
END:DAYLIGHT
BEGIN:STANDARD
TZOFFSETFROM:-0400
TZOFFSETTO:-0500
TZNAME:EST
DTSTART:20251102T060000
END:STANDARD
BEGIN:DAYLIGHT
TZOFFSETFROM:-0500
TZOFFSETTO:-0400
TZNAME:EDT
DTSTART:20260308T070000
END:DAYLIGHT
BEGIN:STANDARD
TZOFFSETFROM:-0400
TZOFFSETTO:-0500
TZNAME:EST
DTSTART:20261101T060000
END:STANDARD
BEGIN:DAYLIGHT
TZOFFSETFROM:-0500
TZOFFSETTO:-0400
TZNAME:EDT
DTSTART:20270314T070000
END:DAYLIGHT
BEGIN:STANDARD
TZOFFSETFROM:-0400
TZOFFSETTO:-0500
TZNAME:EST
DTSTART:20271107T060000
END:STANDARD
END:VTIMEZONE
BEGIN:VEVENT
DTSTART;TZID=America/New_York:20260301T143000
DTEND;TZID=America/New_York:20260301T173000
DTSTAMP:20260422T074427
CREATED:20260127T215924Z
LAST-MODIFIED:20260225T135031Z
UID:5653-1772375400-1772386200@cityscapewinery.com
SUMMARY:Live Music with JD Ross
DESCRIPTION:The perfect laid-back Sunday awaits! \nWe’re open from 1:00-6:00pm for tastings\, wine by the glass\, bottle or flight\, and of course our winery kitchen will be open with all of their delicious creations! Check out our monthly menus online to see all our options for this month. \nWe’ve also got live music with JD Ross from 2:30-5:30pm with the perfect blend of acoustic covers to raise your Sunday spirits! \n \nReservations are encouraged\, but not required\, if you are interested in doing a tasting and getting the full City Scape experience. It’s a great chance to get to know our wines as the tasting menus change monthly and are hand-selected by our Winemaker and Owner\, Josh Jones. This indoor\, seated experience includes warm bread & Happy Cow butter and a Wine Guide to walk you through all the selections and help you find your favorites!
URL:https://cityscapewinery.com/ev/live-music-with-jd-ross/
LOCATION:City Scape Winery
ATTACH;FMTTYPE=image/jpeg:https://cityscapewinery.com/wp-content/uploads/2022/10/20220502_city_scape_winery_0243.jpg
END:VEVENT
BEGIN:VEVENT
DTSTART;VALUE=DATE:20260304
DTEND;VALUE=DATE:20260307
DTSTAMP:20260422T074427
CREATED:20260120T195409Z
LAST-MODIFIED:20260303T172020Z
UID:5637-1772582400-1772841599@cityscapewinery.com
SUMMARY:Happy Hour! | 3-6PM
DESCRIPTION:Looking for something for those wintery blues – we’ve got just the thing! We’ve got a Winter Happy Hour with specials on glasses of wine\, small plates\, and desserts – just the thing for a little pick-me-up during the week! \nEach Wednesday-Friday\, from 3:00-6:00PM\, we’ve got Happy Hour Specials including … \n\n$2 Off All Glasses of Wine (including Reserves and Dessert wines)\n$2 Off Chicken Salad Small Plate\, Truffle Parmesan Spinach Dip Small Plate\, and Roasted Red Pepper Hummus Small Plate (does not apply to Dip Trio or other Shareable Items) \n$2 Off Raspberry Chocolate Caramel Torte and Red Velvet Cheesecake\n\nWhether you are looking for an afternoon date or wanting to get together with friends\, or maybe you are needing a change of scenery to shake up your workday a little bit – bring your computer\, set up at a table and finish out strong!
URL:https://cityscapewinery.com/ev/happy-hour/
LOCATION:City Scape Winery
ATTACH;FMTTYPE=image/jpeg:https://cityscapewinery.com/wp-content/uploads/2024/07/20220330_girls_night_out_0041-scaled.jpg
END:VEVENT
BEGIN:VEVENT
DTSTART;VALUE=DATE:20260307
DTEND;VALUE=DATE:20260308
DTSTAMP:20260422T074427
CREATED:20260224T180829Z
LAST-MODIFIED:20260224T182042Z
UID:5389-1772841600-1772927999@cityscapewinery.com
SUMMARY:Candles in the Cottage
DESCRIPTION:Ever dreamed of creating your own signature candle? If you’ve fallen in love with our City Scape candles\, now’s your chance to bring that dream to life! We’re thrilled to invite you to a special candle-making event hosted by our very own crafty queen\, Deb Jones. Deb is the heart behind our beloved City Scape collection and can’t wait to show you the secrets to creating your own custom masterpiece. \nJoin us for a fun and relaxing afternoon in our cozy Cottage\, glass of wine in hand\, where you’ll learn the art of candle making and design a unique scent that’s all your own. Plus\, we’ll have delicious lunch options available for purchase\, making it the perfect outing for friends or family to enjoy together! \n    \nDon’t miss out on this unforgettable experience—reserve your spot today and get ready to craft your very own candle magic with us! \n🗓️ Saturday\, March 7\n🕰️ 11:00AM-12:30PM\, 1:30-3:00PM\, OR 4:00-5:30PM\n🍷 $45.95 (plus taxes and gratuity) Includes a glass of wine and all the supplies to make your own custom-scented candle
URL:https://cityscapewinery.com/ev/candles-in-the-cottage-3/
ATTACH;FMTTYPE=image/jpeg:https://cityscapewinery.com/wp-content/uploads/2023/06/20230612_cottage_winery_event_rental_0003.jpg
END:VEVENT
BEGIN:VEVENT
DTSTART;TZID=America/New_York:20260313T180000
DTEND;TZID=America/New_York:20260313T193000
DTSTAMP:20260422T074427
CREATED:20260301T235731Z
LAST-MODIFIED:20260302T202523Z
UID:5684-1773424800-1773430200@cityscapewinery.com
SUMMARY:The Art of the Board
DESCRIPTION:Step into a hands-on culinary experience where creativity meets craftsmanship. In this elevated class\, you’ll design and build your own beautifully styled charcuterie board\, selecting the perfectly paired bites of cheese\, meats\, and crackers while also learning a few simple ways to make your board uniquely yours! Including the art of quick-pickling seasonal fruits and vegetables and crafting a simple\, flavorful jam from scratch. \nWe’ll guide you through balancing flavors\, textures\, and colors — from briny and bright to sweet and savory — so your board feels intentional and refined. You’ll leave with new skills\, your custom creations\, and the confidence to curate stunning boards that go far beyond the basics. \n🗓️ Friday\, March 13th \n🕰️ 6:00–7:30pm \n🍷 $34.95 per person (plus taxes and gratuity) Includes a glass of wine\, a mini charcuterie to share\, AND a custom crafted charcuterie to take home!
URL:https://cityscapewinery.com/ev/the-art-of-the-board/
LOCATION:City Scape Winery
ATTACH;FMTTYPE=image/jpeg:https://cityscapewinery.com/wp-content/uploads/2026/03/20240708_bottles_food_music_0082.jpg
END:VEVENT
BEGIN:VEVENT
DTSTART;TZID=America/New_York:20260313T180000
DTEND;TZID=America/New_York:20260313T200000
DTSTAMP:20260422T074427
CREATED:20260301T232614Z
LAST-MODIFIED:20260302T203901Z
UID:5683-1773424800-1773432000@cityscapewinery.com
SUMMARY:Game Night!
DESCRIPTION:Looking for a fun night out? Whether you’re looking for a way to meet new people in the area or planning a laid-back evening with friends\, this is the perfect way to mix\, mingle\, and play!  \nJoin us for a nostalgic evening filled with classic board games\, great wine\, and even better company. You’ll register for the number of people in your group and select your top two favorite games from our list of favorites. From there\, we’ll thoughtfully match guests based on game preferences and have your table ready and waiting when you arrive. \nThink classic favorites like Scrabble\, Clue\, Sorry\, and more! ♟️✨ \nWhen you walk in\, your group will already be assigned\, your game will be set up at your table\, and all that’s left to do is grab a glass of wine and let the fun begin. \nThis is the perfect opportunity to: \n\nMeet new friends in a relaxed\, welcoming environment\nEnjoy a unique and interactive date night\nPlan a memorable outing with your favorite people\nUnplug and relive the joy of classic game night\n\n✨ Spots are limited to ensure the best experience\, so registration is required to reserve your seat and guarantee your game choice. \nWe can’t wait to host a night full of laughter\, friendly competition\, and new connections. Gather your crew — or come solo and meet some new ones — and join us for an unforgettable evening at the winery! \n🗓️ Friday\, March 13th \n🕰️ 6:00–8:00pm \n🍷 FREE Event: Registration Required to reserve your seat and guarantee your game choice! \n 
URL:https://cityscapewinery.com/ev/game-night-3/
LOCATION:City Scape Winery
ATTACH;FMTTYPE=image/jpeg:https://cityscapewinery.com/wp-content/uploads/2022/10/20220502_city_scape_winery_0264.jpg
END:VEVENT
BEGIN:VEVENT
DTSTART;VALUE=DATE:20260320
DTEND;VALUE=DATE:20260321
DTSTAMP:20260422T074427
CREATED:20260104T015104Z
LAST-MODIFIED:20260318T191225Z
UID:5618-1773964800-1774051199@cityscapewinery.com
SUMMARY:Sips & Bites | Inspired by St. Patrick's Day!
DESCRIPTION:We are celebrating a bit of that Irish luck with our very own St. Patrick’s Day inspired Sips & Bites! \nOur culinary team has crafted a menu featuring some of our favorite Irish comfort foods like rich Irish cheddar\, shepherd’s pie\, braised beef\, and maybe even a little something sweet with Irish Cream! Featuring four heavy hors d’oeuvres\, each perfectly paired with a City Scape wine that compliments the complexity of flavors in both the wine and food!  \nHosted by none other than our esteemed winery owner\, Deb Jones\, this event promises to be a memorable celebration of wine\, food\, and some amazing pairings of flavors! Deb\, with her wealth of knowledge and passion for wine\, food\, and travel will guide you through the tasting\, providing fascinating insights and stories along the way. \nWe are taking over our main Tasting Room for a Sips & Bites celebration that is sure to get your taste buds dancing! This event has become a favorite of our team\, and of our guests\, over the years and we are doing it in a whole new way this time for this special occasion. If you have experienced a Sips & Bites before in our Barrel Cellar\, get ready for a whole new experience!  \n🗓️ Friday\, March 20 \n🕰️ 6:00PM  \n🍷 $39.95 (plus taxes and gratuity) Includes a four-course guided wine tasting paired with four heavy hors d’oeuvres bites—plus a souvenir wine glass! \nPlease know we are committed to creating an exceptional experience for every guest. If you have dietary restrictions\, please contact us prior to booking to confirm availability based on your specific needs so we may coordinate with our culinary team.  \nOur goal is always to ensure every guest has the best possible experience\, and advance notice allows us time to thoughtfully prepare for individual needs as we can. While we will make every reasonable effort to ensure your experience is amazing\, please note we may or may not be able to modify menu items based on your specific needs. There may also be additional charges based on the menu accommodations. 
URL:https://cityscapewinery.com/ev/sips-bites-2/
LOCATION:City Scape Winery
ATTACH;FMTTYPE=image/jpeg:https://cityscapewinery.com/wp-content/uploads/2025/10/20240413_city_scape_updates_0034.jpg
END:VEVENT
BEGIN:VEVENT
DTSTART;VALUE=DATE:20260320
DTEND;VALUE=DATE:20260321
DTSTAMP:20260422T074427
CREATED:20251001T130042Z
LAST-MODIFIED:20260317T230348Z
UID:5186-1773964800-1774051199@cityscapewinery.com
SUMMARY:Friday Night Unwind with Live Music & Food Truck
DESCRIPTION:With live music\, delicious bites from our food truck\, and your favorite City Scape wines – we’ve got the perfect atmosphere for your Friday evening to unwind! \nIf you are coming right from work we will have our Happy Hour Specials available from 3-6:00pm with $2 off glasses of wines\, select small plates\, and desserts so you can start your night off right! \nWe’ve got live music from 5:30-8:30 PM with Caston outside with the perfect blend of tunes to set the atmosphere and some to sing along with as well! \nOur food truck\, The Cork & Fork\, is open from 5-8:00pm with all the style you’ve come to know from the winery with a whole new look! Take a look at all our monthly menus HERE to see what delicious bites you can expect! \n \nWe’ll be hosting our Sips & Bites\, St. Patrick’s Day Edition\, in the main floor of the Tasting Room at 6:00pm and we will have our lower level patio and back deck open for all the Friday night fun if you aren’t joining us for the event! If you’re interested\, check out the event HERE for more details and tickets!
URL:https://cityscapewinery.com/ev/friday-night-unwind-with-jd-ross/
LOCATION:City Scape Winery
ATTACH;FMTTYPE=image/jpeg:https://cityscapewinery.com/wp-content/uploads/2025/05/20220208_grand_opening_winery_weekend_0056-copy-scaled.jpg
END:VEVENT
BEGIN:VEVENT
DTSTART;VALUE=DATE:20260326
DTEND;VALUE=DATE:20260330
DTSTAMP:20260422T074427
CREATED:20260324T130006Z
LAST-MODIFIED:20260325T191555Z
UID:5222-1774483200-1774828799@cityscapewinery.com
SUMMARY:This Weekend at the Winery!
DESCRIPTION:Spring has sprung and we don’t know about you\, but we’re looking for every excuse to gather with friends and family and just be together! We’ve got all kinds of things this week that can make just the right space all those hangouts! \n \n🍇 Happy Hour Wednesday–Friday \n🎶 Live Music Friday night & Sunday afternoon \n🍴The Cork & Fork Food Truck open Friday night featuring a fresh Spring menu \n🍷Create your very own custom blend of wine at Winemaker for a Day \n🍪 A cookie pairing made for wine lovers at Cookies Uncorked \nWhether you’re here for the music\, the flavors\, or just a relaxing glass (or two 😉)\, we’ve got all the makings of a great time waiting for you. \nCheck out the full schedule and details online and start planning your visit—we can’t wait to welcome you!
URL:https://cityscapewinery.com/ev/this-weekend-at-the-winery/
LOCATION:City Scape Winery
ATTACH;FMTTYPE=image/jpeg:https://cityscapewinery.com/wp-content/uploads/2023/03/20220502_city_scape_winery_0692.jpg
END:VEVENT
BEGIN:VEVENT
DTSTART;TZID=America/New_York:20260328T110000
DTEND;TZID=America/New_York:20260328T173000
DTSTAMP:20260422T074427
CREATED:20180222T145431Z
LAST-MODIFIED:20260319T213443Z
UID:1218-1774695600-1774719000@cityscapewinery.com
SUMMARY:Cookies Uncorked | A Girl Scout Cookie & Wine Pairing Experience
DESCRIPTION:Girl Scout Cookie season just got a delicious upgrade! Join us for Cookies Uncorked\, a playful and indulgent wine tasting event where we pair some of your favorite Girl Scout Cookies with your favorite City Scape wines. \nDuring this guided tasting experience\, you’ll discover how the flavors of these beloved cookies come alive alongside a curated selection of wines. Each pairing is designed to highlight surprising flavor combinations\, bringing out the best in both the cookies and the wine.  \nWhether you’re a wine enthusiast\, a Girl Scout Cookie lover\, or simply looking for a fun and unique tasting experience\, Cookies Uncorked is the perfect way to celebrate the season. Gather your friends\, sip\, savor\, and see your favorite cookies in a whole new light. \nSpots are limited—reserve your seat and get ready to uncork some seriously sweet pairings! \n🗓️ Saturday\, March 28 \n🕰️ Reservations Available from 11:00am-5:30pm \n🍷 $26.95 (plus taxes and gratuity) Includes five selected wines paired with five flavors of Girl Scout Cookies—plus a souvenir wine glass!
URL:https://cityscapewinery.com/ev/girl-scout-cookies-wine-pairing/
LOCATION:City Scape Winery
ATTACH;FMTTYPE=image/jpeg:https://cityscapewinery.com/wp-content/uploads/2025/07/20240708_bottles_food_music_0154.jpg
END:VEVENT
BEGIN:VEVENT
DTSTART;TZID=America/New_York:20260329T130000
DTEND;TZID=America/New_York:20260329T180000
DTSTAMP:20260422T074427
CREATED:20260324T130047Z
LAST-MODIFIED:20260324T173959Z
UID:5636-1774789200-1774807200@cityscapewinery.com
SUMMARY:Sunday at the Winery!
DESCRIPTION:Sunday’s are for kicking back\, going slow\, and of course wine! We’ve got the perfect atmosphere for an outing with that group of friends you haven’t seen in awhile\, or a date afternoon while the kids are at friends houses\, or just an excursion to get out of the house! \nWe’ve got live music with Thomas James from 2:30-5:30pm\, bringing the perfect acoustic tunes to match with the afternoon. \nWe’re open from 1:00-6:00pm for tastings\, wine by the glass\, bottle or flight\, and of course our winery kitchen will be open with all of their delicious creations! Check out our monthly menus online to see all our options for this month. \nIf you are interested in doing a tasting and getting the full City Scape experience\, we do highly encourage reservations on Sundays as we cannot always guarantee a tasting at a specific time without a reservation. It is a great chance to get to know our wines as the tasting menus change monthly and are hand-selected by our Winemaker and Owner\, Josh Jones. This indoor\, seated experience includes warm bread & Happy Cow butter and a Wine Guide to walk you through all the selections and help you find your favorites! \nIf you are already familiar with our tastings and have enjoyed those in the past you can always come in without a reservation and enjoy seating at our bar or on the enclosed and heated portion of our back deck!
URL:https://cityscapewinery.com/ev/sunday-at-the-winery/
LOCATION:City Scape Winery
ATTACH;FMTTYPE=image/jpeg:https://cityscapewinery.com/wp-content/uploads/2024/07/20220330_girls_night_out_0041-scaled.jpg
END:VEVENT
END:VCALENDAR