BEGIN:VCALENDAR
VERSION:2.0
PRODID:-//City Scape Winery - ECPv6.15.18//NONSGML v1.0//EN
CALSCALE:GREGORIAN
METHOD:PUBLISH
X-WR-CALNAME:City Scape Winery
X-ORIGINAL-URL:https://cityscapewinery.com
X-WR-CALDESC:Events for City Scape Winery
REFRESH-INTERVAL;VALUE=DURATION:PT1H
X-Robots-Tag:noindex
X-PUBLISHED-TTL:PT1H
BEGIN:VTIMEZONE
TZID:America/New_York
BEGIN:DAYLIGHT
TZOFFSETFROM:-0500
TZOFFSETTO:-0400
TZNAME:EDT
DTSTART:20250309T070000
END:DAYLIGHT
BEGIN:STANDARD
TZOFFSETFROM:-0400
TZOFFSETTO:-0500
TZNAME:EST
DTSTART:20251102T060000
END:STANDARD
BEGIN:DAYLIGHT
TZOFFSETFROM:-0500
TZOFFSETTO:-0400
TZNAME:EDT
DTSTART:20260308T070000
END:DAYLIGHT
BEGIN:STANDARD
TZOFFSETFROM:-0400
TZOFFSETTO:-0500
TZNAME:EST
DTSTART:20261101T060000
END:STANDARD
BEGIN:DAYLIGHT
TZOFFSETFROM:-0500
TZOFFSETTO:-0400
TZNAME:EDT
DTSTART:20270314T070000
END:DAYLIGHT
BEGIN:STANDARD
TZOFFSETFROM:-0400
TZOFFSETTO:-0500
TZNAME:EST
DTSTART:20271107T060000
END:STANDARD
END:VTIMEZONE
BEGIN:VEVENT
DTSTART;TZID=America/New_York:20260425T110000
DTEND;TZID=America/New_York:20260425T123000
DTSTAMP:20260425T063321
CREATED:20260327T130055Z
LAST-MODIFIED:20260330T173809Z
UID:3324-1777114800-1777120200@cityscapewinery.com
SUMMARY:Winemaker's Behind the Scenes Tour
DESCRIPTION:Take a special behind the scenes tour of our tasting room\, production areas and vineyards. Hosted by winemaker and owner\, Josh Jones\, he will go over the history of the winery\, talk about how we grow our grapes in our vineyards and see all the behind the scenes of our 6\,400 sq ft underground production facility. \n \nTickets are $25 and include the tour\, a glass of wine\, and souvenir wine glass. The tour begins at 11am and goes until around 12:30pm. Afterward\, you are welcome to enjoy wine by the bottle or glass in our tasting room in any first come first serve seating areas or if you would like to book a wine tasting\, we suggest booking it for the 1:00pm slot on our website following the tour and you can check in at the main entrance host stand! \nBOOK HERE!\n 
URL:https://cityscapewinery.com/ev/winerytour/
LOCATION:City Scape Winery
ATTACH;FMTTYPE=image/jpeg:https://cityscapewinery.com/wp-content/uploads/2022/10/20220502_city_scape_winery_0721.jpg
END:VEVENT
END:VCALENDAR