BEGIN:VCALENDAR
VERSION:2.0
PRODID:-//City Scape Winery - ECPv6.15.10//NONSGML v1.0//EN
CALSCALE:GREGORIAN
METHOD:PUBLISH
X-ORIGINAL-URL:https://cityscapewinery.com
X-WR-CALDESC:Events for City Scape Winery
REFRESH-INTERVAL;VALUE=DURATION:PT1H
X-Robots-Tag:noindex
X-PUBLISHED-TTL:PT1H
BEGIN:VTIMEZONE
TZID:America/New_York
BEGIN:DAYLIGHT
TZOFFSETFROM:-0500
TZOFFSETTO:-0400
TZNAME:EDT
DTSTART:20250309T070000
END:DAYLIGHT
BEGIN:STANDARD
TZOFFSETFROM:-0400
TZOFFSETTO:-0500
TZNAME:EST
DTSTART:20251102T060000
END:STANDARD
BEGIN:DAYLIGHT
TZOFFSETFROM:-0500
TZOFFSETTO:-0400
TZNAME:EDT
DTSTART:20260308T070000
END:DAYLIGHT
BEGIN:STANDARD
TZOFFSETFROM:-0400
TZOFFSETTO:-0500
TZNAME:EST
DTSTART:20261101T060000
END:STANDARD
BEGIN:DAYLIGHT
TZOFFSETFROM:-0500
TZOFFSETTO:-0400
TZNAME:EDT
DTSTART:20270314T070000
END:DAYLIGHT
BEGIN:STANDARD
TZOFFSETFROM:-0400
TZOFFSETTO:-0500
TZNAME:EST
DTSTART:20271107T060000
END:STANDARD
END:VTIMEZONE
BEGIN:VEVENT
DTSTART;TZID=America/New_York:20260313T180000
DTEND;TZID=America/New_York:20260313T193000
DTSTAMP:20260422T092709
CREATED:20260301T235731Z
LAST-MODIFIED:20260302T202523Z
UID:5684-1773424800-1773430200@cityscapewinery.com
SUMMARY:The Art of the Board
DESCRIPTION:Step into a hands-on culinary experience where creativity meets craftsmanship. In this elevated class\, you’ll design and build your own beautifully styled charcuterie board\, selecting the perfectly paired bites of cheese\, meats\, and crackers while also learning a few simple ways to make your board uniquely yours! Including the art of quick-pickling seasonal fruits and vegetables and crafting a simple\, flavorful jam from scratch. \nWe’ll guide you through balancing flavors\, textures\, and colors — from briny and bright to sweet and savory — so your board feels intentional and refined. You’ll leave with new skills\, your custom creations\, and the confidence to curate stunning boards that go far beyond the basics. \n🗓️ Friday\, March 13th \n🕰️ 6:00–7:30pm \n🍷 $34.95 per person (plus taxes and gratuity) Includes a glass of wine\, a mini charcuterie to share\, AND a custom crafted charcuterie to take home!
URL:https://cityscapewinery.com/ev/the-art-of-the-board/
LOCATION:City Scape Winery
ATTACH;FMTTYPE=image/jpeg:https://cityscapewinery.com/wp-content/uploads/2026/03/20240708_bottles_food_music_0082.jpg
END:VEVENT
BEGIN:VEVENT
DTSTART;TZID=America/New_York:20260313T180000
DTEND;TZID=America/New_York:20260313T200000
DTSTAMP:20260422T092709
CREATED:20260301T232614Z
LAST-MODIFIED:20260302T203901Z
UID:5683-1773424800-1773432000@cityscapewinery.com
SUMMARY:Game Night!
DESCRIPTION:Looking for a fun night out? Whether you’re looking for a way to meet new people in the area or planning a laid-back evening with friends\, this is the perfect way to mix\, mingle\, and play!  \nJoin us for a nostalgic evening filled with classic board games\, great wine\, and even better company. You’ll register for the number of people in your group and select your top two favorite games from our list of favorites. From there\, we’ll thoughtfully match guests based on game preferences and have your table ready and waiting when you arrive. \nThink classic favorites like Scrabble\, Clue\, Sorry\, and more! ♟️✨ \nWhen you walk in\, your group will already be assigned\, your game will be set up at your table\, and all that’s left to do is grab a glass of wine and let the fun begin. \nThis is the perfect opportunity to: \n\nMeet new friends in a relaxed\, welcoming environment\nEnjoy a unique and interactive date night\nPlan a memorable outing with your favorite people\nUnplug and relive the joy of classic game night\n\n✨ Spots are limited to ensure the best experience\, so registration is required to reserve your seat and guarantee your game choice. \nWe can’t wait to host a night full of laughter\, friendly competition\, and new connections. Gather your crew — or come solo and meet some new ones — and join us for an unforgettable evening at the winery! \n🗓️ Friday\, March 13th \n🕰️ 6:00–8:00pm \n🍷 FREE Event: Registration Required to reserve your seat and guarantee your game choice! \n 
URL:https://cityscapewinery.com/ev/game-night-3/
LOCATION:City Scape Winery
ATTACH;FMTTYPE=image/jpeg:https://cityscapewinery.com/wp-content/uploads/2022/10/20220502_city_scape_winery_0264.jpg
END:VEVENT
END:VCALENDAR