BEGIN:VCALENDAR
VERSION:2.0
PRODID:-//City Scape Winery - ECPv6.15.10//NONSGML v1.0//EN
CALSCALE:GREGORIAN
METHOD:PUBLISH
X-ORIGINAL-URL:https://cityscapewinery.com
X-WR-CALDESC:Events for City Scape Winery
REFRESH-INTERVAL;VALUE=DURATION:PT1H
X-Robots-Tag:noindex
X-PUBLISHED-TTL:PT1H
BEGIN:VTIMEZONE
TZID:America/New_York
BEGIN:DAYLIGHT
TZOFFSETFROM:-0500
TZOFFSETTO:-0400
TZNAME:EDT
DTSTART:20240310T070000
END:DAYLIGHT
BEGIN:STANDARD
TZOFFSETFROM:-0400
TZOFFSETTO:-0500
TZNAME:EST
DTSTART:20241103T060000
END:STANDARD
BEGIN:DAYLIGHT
TZOFFSETFROM:-0500
TZOFFSETTO:-0400
TZNAME:EDT
DTSTART:20250309T070000
END:DAYLIGHT
BEGIN:STANDARD
TZOFFSETFROM:-0400
TZOFFSETTO:-0500
TZNAME:EST
DTSTART:20251102T060000
END:STANDARD
BEGIN:DAYLIGHT
TZOFFSETFROM:-0500
TZOFFSETTO:-0400
TZNAME:EDT
DTSTART:20260308T070000
END:DAYLIGHT
BEGIN:STANDARD
TZOFFSETFROM:-0400
TZOFFSETTO:-0500
TZNAME:EST
DTSTART:20261101T060000
END:STANDARD
END:VTIMEZONE
BEGIN:VEVENT
DTSTART;VALUE=DATE:20250926
DTEND;VALUE=DATE:20250929
DTSTAMP:20260422T113130
CREATED:20250831T140012Z
LAST-MODIFIED:20250925T182428Z
UID:5459-1758844800-1759103999@cityscapewinery.com
SUMMARY:5TH ANNUAL FALL FESTIVAL!
DESCRIPTION:FREE & OPEN TO THE PUBLIC ALL WEEKEND LONG!  \n🍁FALL-ELUJAH it’s back for the FIFTH year in a row— our annual Food & Wine Fall Festival! 🍷 It’s the perfect setting around Greenville to celebrate everyone’s favorite time of year with food\, wine\, shopping\, and more!  \n🚗 FREE admission & parking\n🎶 9 bands for live music all weekend long\n🍔 Lots of food & dessert vendors\n🎨 40+ local vendors each day\n🍷 Wine specials + strolling wine flight tastings (no reservations needed!)\n🐶 Family & pup friendly \nWhile we will not be offering reservations or full seated tastings during this weekend\, you can purchase wine by the glass\, bottle\, or wine flight as you stroll the property!  \nCome out and sip on your favorite local wine\, shop local and welcome in the Fall season! See full daily event schedules below!  \n \nFRIDAY\, SEPTEMBER 26TH | FALL FESTIVAL KICK-OFF PARTY | 5:00-9:00 PM  \nWe’re kicking off an exciting weekend with live music\, great food & wine\, tethered hot air balloon rides\, and more! We’ll have small plate options available from the winery kitchen\, The Cork & Fork food truck will be open with our fall favorites! There will be live music from Cody Gentry from 5:30-8:30 PM setting the atmosphere for a great evening! \nTethered Hot Air Balloon Rides (Provided by Southern Skies Ballooning) will take place if we have good flying conditions that evening. Updates will be made throughout the day on our social media on flying conditions and times. \n\nTickets are available for purchase ONSITE ONLY and will be sold by the hour at the ticket book by the balloon in our back field. Rides will be around ten minutes with three minutes at maximum height in the air. There are limited spots available and will be on a first-come\, first-serve basis.\nPackage Details:\n\nIndividual Tickets | Adults: $49.95 each\, Kids (+/- 70lbs): $49.95 each (children must be around 36 inches tall to see over basket)\nPrivate Basket | Guaranteed Private Basket of 1-4 People: $249 (Perfect for proposals\, anniversaries\, birthdays\, or special celebratory occassions)\n\n\n\nSATURDAY\, SEPTEMBER 27TH | FALL FESTIVAL DAY ONE! | 11:00 AM – 7:00 PM  \nThe winery and vendors will open at 11:00 am with bars throughout the property and live music inside and outside! We’ll have brunch options available at the Patio Bar from 11:00am-12:00pm (no reservations needed!)\, small plates available to order at the bars\, and the Mac Attack food truck out front. Our food truck\, The Cork & Fork\, will be open 12:00pm-6:00pm with some of our fall favorites! \nSUNDAY\, SEPTEMBER 28TH | FALL FESTIVAL DAY TWO! | 12:00-6:00 PM \nThe winery and vendors will open at 12:00 pm with bars throughout the property and live music inside and outside! We’ll have small plates available to order at the bars\, Rad Dad’s BBQ food truck out front\, and our food truck\, The Cork & Fork\, will be open with some of our fall favorites! \nFESTIVAL FAQ: \n⚡️Our parking will be limited\, so we recommend Uber/Lyft or carpooling if you are able! We are also teaming up with Happy Cow Creamery to provide overflow parking at their location & we will have shuttles to take you back and forth! \n⚡️Seating may also be limited\, so bring a lawn chair or picnic blanket if you would like to set up wherever your heart desires! \n⚡️Please refrain from bringing in outside food or beverage (other than bottled water)\, we will have lots of onsite vendors to support!
URL:https://cityscapewinery.com/ev/5459/
LOCATION:City Scape Winery
ATTACH;FMTTYPE=image/jpeg:https://cityscapewinery.com/wp-content/uploads/2024/09/20231008_city_scape_winery_fall_festival_0176-e1725903561275.jpg
END:VEVENT
END:VCALENDAR